BEGIN:VCALENDAR
VERSION:2.0
PRODID:-//hacksw/handcal//NONSGML v1.0//EN
BEGIN:VEVENT
SUMMARY:9 avril 2022 - Assemblee Generale Ordinaire 2021
UID:b37dd34b-9bdf-4cb1-adbc-47fcb9be03b1
DTSTART:20220409T070000Z
DTEND:20220409T123000Z
LOCATION:Localisation   
CATEGORIES:Administratif
STATUS:
DESCRIPTION:<p> </p>
 
 <p><span style="font-size:18px;">Assemblee
 generale ordinaire</span></p>
 
 <p><span style="font-size:18px;">Lieu
 : (BEAUCOUZE - La Changerie) en attente de
 confirmation</span></p>
 
 <p><span style="font-size:18px;">de 9h00 a
 12h00</span></p>
 
 <p><span style="font-size:18px;">puis
 repas </span></p>
 
URL;VALUE=URI:https://www.cdmjsea49.org/evenements/2022/04/09/9-avril-2022-assemblee-generale-ordinaire-2021-1594977
END:VEVENT
END:VCALENDAR
