BEGIN:VCALENDAR
VERSION:2.0
PRODID:-//hacksw/handcal//NONSGML v1.0//EN
BEGIN:VEVENT
SUMMARY:10 Fevrier 2024 - Assemblee Generale Ordinaire 2023
UID:02c18064-389f-4b03-b42d-8d239d18f10a
DTSTART:20240209T230000Z
DTEND:20240210T230000Z
LOCATION:Localisation 6 Avenue du Grand Perigne 49071 Beaucouze
CATEGORIES:Manifestation
STATUS:
DESCRIPTION:<p style="text-align:center;"><span><font face="Tempus
 Sans ITC, fantasy"><span style="font-size:22pt;">Le
 President, </span></font></span><span><font face="Tempus Sans ITC,
 fantasy"><span style="font-size:22pt;">Les membres du Comite
 Directeur du CD 49 M.J.S.E.A.</span></font></span></p>
 
 <p
 style="text-align:center;"><span><font face="Tempus Sans ITC,
 fantasy"><span style="font-size:22pt;">Ont le plaisir de vous inviter
 </span></font></span></p>
 
 <p style="text-align:center;"><span><font
 face="Tempus Sans ITC, fantasy"><span style="font-size:22pt;">a leur
 Assemblee Generale </span></font></span><span><font face="Tempus
 Sans ITC, fantasy"><span style="font-size:22pt;">Ordinaire
 2023</span></font></span></p>
 
 <p
 style="text-align:center;"> </p>
 
 <p
 style="text-align:center;"><span><font face="Tempus Sans ITC,
 fantasy"><span style="font-size:22pt;"><font color="#c9211e">Le
 samedi </font><font color="#c9211e">10</font><font
 color="#c9211e">fevr</font><font color="#c9211e">ier 20</font><font
 color="#c9211e">2</font><font
 color="#c9211e">4</font></span></font></span></p>
 
 <p
 style="text-align:center;"><span><font face="Tempus Sans ITC,
 fantasy"><span style="font-size:22pt;">A
 9h30</span></font></span></p>
 
 <p
 style="text-align:center;"><span><font face="Tempus Sans ITC,
 fantasy"><span style="font-size:22pt;">au «S.D.I.S,
 49»</span></font></span></p>
 
 <p
 style="text-align:center;"><span><font face="Tempus Sans ITC,
 fantasy"><span style="font-size:22pt;">6 avenue du Grand Perigne
 </span></font></span></p>
 
 <p style="text-align:center;"><span><font
 face="Tempus Sans ITC, fantasy"><span style="font-size:22pt;">49071
 BEAUCOUZE. </span></font></span></p>
 
 <p> </p>
 
 <p
 style="text-align:center;"><span><font color="#0066cc"><font
 face="Tempus Sans ITC, fantasy"><span
 style="font-size:14pt;">L</span></font></font><font
 color="#0066cc"><font face="Tempus Sans ITC, fantasy"><span
 style="font-size:14pt;">e port de la decoration J.S.E.A. est souhaite
 pour les presents</span></font></font></span></p>
URL;VALUE=URI:https://www.cdmjsea49.org/evenements/2024/02/10/10-fevrier-2024-assemblee-generale-ordinaire-2023-1942393
END:VEVENT
END:VCALENDAR
