BEGIN:VCALENDAR
VERSION:2.0
PRODID:-//hacksw/handcal//NONSGML v1.0//EN
BEGIN:VEVENT
SUMMARY:7 Fevrier 2026 - Assemblee Generale Ordinaire 2025
UID:cc5b484d-6118-400a-ad1d-7d1e08961485
DTSTART:20260207T084500Z
DTEND:20260207T110000Z
LOCATION:Localisation 3 rue Olivier de Serres  BEAUCOUZE
CATEGORIES:Manifestation
STATUS:
URL;VALUE=URI:https://www.cdmjsea49.org/evenements/2026/02/07/7-fevrier-2026-assemblee-generale-ordinaire-2025-2350096
END:VEVENT
END:VCALENDAR
