BEGIN:VCALENDAR
VERSION:2.0
PRODID:-//hacksw/handcal//NONSGML v1.0//EN
BEGIN:VEVENT
SUMMARY:Journee mondiale du benevolat
UID:d6dfc541-7628-42b3-b99b-c9ea84dec715
DTSTART:20261204T230000Z
DTEND:20261205T230000Z
LOCATION:Localisation   
CATEGORIES:Manifestation
STATUS:
URL;VALUE=URI:https://www.cdmjsea49.org/evenements/2026/12/05/journee-mondiale-du-benevolat-2444084
END:VEVENT
END:VCALENDAR
